BEGIN:VCALENDAR
VERSION:2.0
PRODID:-//AICP | Associazione italiana coach professionisti - ECPv6.15.13//NONSGML v1.0//EN
CALSCALE:GREGORIAN
METHOD:PUBLISH
X-ORIGINAL-URL:https://demo-associazionecoach.qwince.com
X-WR-CALDESC:Eventi per AICP | Associazione italiana coach professionisti
REFRESH-INTERVAL;VALUE=DURATION:PT1H
X-Robots-Tag:noindex
X-PUBLISHED-TTL:PT1H
BEGIN:VTIMEZONE
TZID:Europe/Rome
BEGIN:DAYLIGHT
TZOFFSETFROM:+0100
TZOFFSETTO:+0200
TZNAME:CEST
DTSTART:20220327T010000
END:DAYLIGHT
BEGIN:STANDARD
TZOFFSETFROM:+0200
TZOFFSETTO:+0100
TZNAME:CET
DTSTART:20221030T010000
END:STANDARD
BEGIN:DAYLIGHT
TZOFFSETFROM:+0100
TZOFFSETTO:+0200
TZNAME:CEST
DTSTART:20230326T010000
END:DAYLIGHT
BEGIN:STANDARD
TZOFFSETFROM:+0200
TZOFFSETTO:+0100
TZNAME:CET
DTSTART:20231029T010000
END:STANDARD
BEGIN:DAYLIGHT
TZOFFSETFROM:+0100
TZOFFSETTO:+0200
TZNAME:CEST
DTSTART:20240331T010000
END:DAYLIGHT
BEGIN:STANDARD
TZOFFSETFROM:+0200
TZOFFSETTO:+0100
TZNAME:CET
DTSTART:20241027T010000
END:STANDARD
END:VTIMEZONE
BEGIN:VEVENT
DTSTART;TZID=Europe/Rome:20230610T090000
DTEND;TZID=Europe/Rome:20230610T130000
DTSTAMP:20260421T042812
CREATED:20230622T140551Z
LAST-MODIFIED:20240216T085830Z
UID:46493-1686387600-1686402000@demo-associazionecoach.qwince.com
SUMMARY:Giornata di formazione nazionale 2023
DESCRIPTION:Conoscere i meccanismi che governano il nostro cervello\, come può aiutarci nella pratica del Coaching?\n \nAbbiamo deciso di dedicare questo appuntamento di espansione delle proprie conoscenze nel campo del coaching a un ulteriore approfondimento dell’argomento neuroscienze\, visto l’entusiasmo con cui i soci hanno accolto il lavoro del Tavolo Ricerca su questo tema. \n\nLa prima presentazione di questa interessante indagine si è svolta alla fine dello scorso anno. Ora è giunto il momento di fare maggiore chiarezza su quali siano gli spunti di riflessione che possono essere utili a noi coach e quali invece siano gli ambiti di questa materia che non sono propri della nostra professione. \nA guidarci in questo percorso alla scoperta delle neuroscienze e di come possiamo utilizzarle nella pratica del coaching sono i rappresentanti del Tavolo Ricerca Aicp: Flavia Zampa\, Elena Re e Gianvittorio Carusi\, che hanno aperto la Giornata Nazionale della Formazione AICP con un intervento intitolato “CambiaMente… con il Coaching”. \nA seguire Edoardo Boncinelli\, genetista e fisico\, e Antonello Calvaruso  ci hanno condotti in un percorso alla scoperta delle trappole cognitive: bias\, illusioni della mente e credenze collettive. \nAgli interventi degli ospiti sono seguiti esercitazioni pratiche e condivisioni\, sia in gruppo che in plenaria\, per approfondire i temi trattati e suscitare riflessioni e domande su come la conoscenza delle neuroscienze e in particolare delle trappole della nostra mente\, ci possa aiutare nella pratica del coaching. \nSHORT BIO Edoardo Boncinelli e Antonello Calvaruso\nCalvaruso e Boncinelli sono co-autori di “Che cosa abbiamo nella testa”\, pubblicato da Il Saggiatore nel 2021: a loro il compito di aiutarci a comprendere meglio come si forma il pensiero\, e quanto c’entrano l’istinto e la razionalità nelle scelte che facciamo\, in modo da avere tutti gli elementi che possono aiutarci a supportare i nostri coachee nel raggiungimento dei loro obiettivi. \n\n \nSegui i link per vedere le registrazioni dell’evento:\nParte 1: https://vimeo.com/837503733/7379e319d7?share=copy \nParte 2: https://vimeo.com/837513929/f84cafe180?share=copy \nAccedi all’area riservata per scaricare “Cambiamente – Neuroscienze per Coach Vol 1 – parte 1”\nAccedi all’area riservata per scaricare “Cambiamente – Neuroscienze per Coach Vol 1 – parte 2”
URL:https://demo-associazionecoach.qwince.com/event/giornata-di-formazione-nazionale-2023/
LOCATION:ZOOM
CATEGORIES:Webinar
ATTACH;FMTTYPE=image/png:https://demo-associazionecoach.qwince.com/wp-content/uploads/2023/06/Slide-Neuroscienze.png
END:VEVENT
END:VCALENDAR