BEGIN:VCALENDAR
VERSION:2.0
PRODID:-//AICP | Associazione italiana coach professionisti - ECPv6.15.13//NONSGML v1.0//EN
CALSCALE:GREGORIAN
METHOD:PUBLISH
X-WR-CALNAME:AICP | Associazione italiana coach professionisti
X-ORIGINAL-URL:https://demo-associazionecoach.qwince.com
X-WR-CALDESC:Eventi per AICP | Associazione italiana coach professionisti
REFRESH-INTERVAL;VALUE=DURATION:PT1H
X-Robots-Tag:noindex
X-PUBLISHED-TTL:PT1H
BEGIN:VTIMEZONE
TZID:Europe/Rome
BEGIN:DAYLIGHT
TZOFFSETFROM:+0100
TZOFFSETTO:+0200
TZNAME:CEST
DTSTART:20200329T010000
END:DAYLIGHT
BEGIN:STANDARD
TZOFFSETFROM:+0200
TZOFFSETTO:+0100
TZNAME:CET
DTSTART:20201025T010000
END:STANDARD
BEGIN:DAYLIGHT
TZOFFSETFROM:+0100
TZOFFSETTO:+0200
TZNAME:CEST
DTSTART:20210328T010000
END:DAYLIGHT
BEGIN:STANDARD
TZOFFSETFROM:+0200
TZOFFSETTO:+0100
TZNAME:CET
DTSTART:20211031T010000
END:STANDARD
BEGIN:DAYLIGHT
TZOFFSETFROM:+0100
TZOFFSETTO:+0200
TZNAME:CEST
DTSTART:20220327T010000
END:DAYLIGHT
BEGIN:STANDARD
TZOFFSETFROM:+0200
TZOFFSETTO:+0100
TZNAME:CET
DTSTART:20221030T010000
END:STANDARD
END:VTIMEZONE
BEGIN:VEVENT
DTSTART;TZID=Europe/Rome:20211201T180000
DTEND;TZID=Europe/Rome:20211201T193000
DTSTAMP:20260421T213345
CREATED:20211119T001822Z
LAST-MODIFIED:20220213T154537Z
UID:41213-1638381600-1638387000@demo-associazionecoach.qwince.com
SUMMARY:Webinar "ETICA: dalla teoria alla pratica\, nell’attività professionale del Coach AICP"
DESCRIPTION:Webinar “ETICA: dalla teoria alla pratica\, nell’attività professionale del Coach AICP” \nRelatore: Roberto Assente \nBusiness & Executive Coach. Ha fatto parte del Consiglio Direttivo di AICP dal 2015 al 2020\, come Responsabile Eventi e\, dal 2018\, come Vicepresidente. Attualmente Responsabile della Commissione Etica di AICP. Ha una certificazione sulle competenze del Coaching rilasciata da CEPAS. \nOltre 25 anni di esperienza manageriale\, in primarie società multinazionali o a forte internazionalizzazione\, principalmente nel mondo medicale\, della ricerca e dell’innovazione. \nObiettivi del Webinar \nDefinire ruolo e funzione della CE indipendente\, modalità di supporto al socio e al cliente; \nProporre una gestione funzionale dei flussi informativi verso la CE; \nExcursus sulle principali linee caratterizzanti  il Codice Etico di AICP\, tradotto dal Code of Ethics adottato. \nContenuti \nTema dell’incontro sarà illustrare le \nfunzioni della Commissione Etica\, come ci si relazioni con essa e quali sono le attività che svolge. \nSi illustreranno le relazioni esistenti tra il CoE e la Carta Etica di AICP. \nVerrà trattato il ruolo Code of Etichs adottato da AICP nel 2018 come insieme di linee guida “pratiche” di come un Coach AICP debba porsi nei confronti dei clienti e del mercato. \nSaranno illustrati i temi chiave del CoE e la ricaduta pratica nel lavoro e nei comportamenti dei Coach. \nSI rifletterà su come il CoE possa essere effettivamente un faro guida in materia di Etica e di condotta professionale del Coach\, ancor prima di norme e regolamenti. \nVerrà dedicato spazio anche alle scadenze e alle attività programmate di revisione negli anni del CoE e al ruolo dei soci nell’approvazione assembleare delle stesse. \n  \nClicca sul link qui a destra per accedere alla pagina del webinar per avere maggiori informazioni sui relatori\, sull’intervento e per il video.
URL:https://demo-associazionecoach.qwince.com/event/webinar-etica-dalla-teoria-alla-pratica-nellattivita-professionale-del-coach-aicp/
CATEGORIES:Webinar
ATTACH;FMTTYPE=image/jpeg:https://demo-associazionecoach.qwince.com/wp-content/uploads/2021/11/Rob-Assente-1.jpg
END:VEVENT
END:VCALENDAR