BEGIN:VCALENDAR
VERSION:2.0
PRODID:-//AICP | Associazione italiana coach professionisti - ECPv6.15.13//NONSGML v1.0//EN
CALSCALE:GREGORIAN
METHOD:PUBLISH
X-ORIGINAL-URL:https://demo-associazionecoach.qwince.com
X-WR-CALDESC:Eventi per AICP | Associazione italiana coach professionisti
REFRESH-INTERVAL;VALUE=DURATION:PT1H
X-Robots-Tag:noindex
X-PUBLISHED-TTL:PT1H
BEGIN:VTIMEZONE
TZID:Europe/Rome
BEGIN:DAYLIGHT
TZOFFSETFROM:+0100
TZOFFSETTO:+0200
TZNAME:CEST
DTSTART:20200329T010000
END:DAYLIGHT
BEGIN:STANDARD
TZOFFSETFROM:+0200
TZOFFSETTO:+0100
TZNAME:CET
DTSTART:20201025T010000
END:STANDARD
BEGIN:DAYLIGHT
TZOFFSETFROM:+0100
TZOFFSETTO:+0200
TZNAME:CEST
DTSTART:20210328T010000
END:DAYLIGHT
BEGIN:STANDARD
TZOFFSETFROM:+0200
TZOFFSETTO:+0100
TZNAME:CET
DTSTART:20211031T010000
END:STANDARD
BEGIN:DAYLIGHT
TZOFFSETFROM:+0100
TZOFFSETTO:+0200
TZNAME:CEST
DTSTART:20220327T010000
END:DAYLIGHT
BEGIN:STANDARD
TZOFFSETFROM:+0200
TZOFFSETTO:+0100
TZNAME:CET
DTSTART:20221030T010000
END:STANDARD
END:VTIMEZONE
BEGIN:VEVENT
DTSTART;TZID=Europe/Rome:20210623T180000
DTEND;TZID=Europe/Rome:20210623T193000
DTSTAMP:20260422T060810
CREATED:20210603T085206Z
LAST-MODIFIED:20210623T172924Z
UID:40624-1624471200-1624476600@demo-associazionecoach.qwince.com
SUMMARY:Webinar "Mentoring e Supervisione nel Coaching"
DESCRIPTION:Webinar “Mentoring e Supervisione nel Coaching” \nRelatore: Vittorio Balbi \nVittorio è un Coach professionale dal 2005\, socio AICP Lazio. Ha maturato esperienze professionali sia in ambito Corporate che Agonistico. \nObiettivi del Webinar \nLe tematiche inerenti il Mentoring nel Coaching e la Supervisione sono da oltre trent’anni oggetto di studio e valutazione. Mentre per le Professioni ordinistiche esistono dei riferimenti precisi\, delle definizioni condivise ed una discussione attiva e ampia che ancora dibatte in una crescente ed arricchente crescita\, il mondo del Coaching sembra mostrare invece un certo pudore nell’affrontare le due tematiche che sono ad avviso del relatore invece centrali per lo sviluppo naturale della professione. \nL’obiettivo della Relazione è: informare della Tematica e fornire la posizione personale maturata in oltre quindici anni di attività “hands-on”\, sul campo\, mostrando con un minimo di dettaglio lo stato dell’arte nei due campi professionali. \nContenuti \nMentor: significato ed esempio \nIl Mentor nel Coaching\, cioè il “Mentoring” definizione e ambiti \nLa Supervisione: significato ed esempi \nLa supervisione nel Coaching: definizione ed ambiti \nUn’ esperienza di Mentoring e di Supervisione\, metodologie e strumenti pratici. \n  \nClicca sul link qui a destra per accedere alla pagina del webinar per avere maggiori informazioni sui relatori\, sull’intervento e per il video del webinar
URL:https://demo-associazionecoach.qwince.com/event/webinar-mentoring-e-supervisione-nel-coaching/
CATEGORIES:Webinar
ATTACH;FMTTYPE=image/png:https://demo-associazionecoach.qwince.com/wp-content/uploads/2021/06/Immagine2.png
END:VEVENT
END:VCALENDAR