BEGIN:VCALENDAR
VERSION:2.0
PRODID:-//AICP | Associazione italiana coach professionisti - ECPv6.15.13//NONSGML v1.0//EN
CALSCALE:GREGORIAN
METHOD:PUBLISH
X-WR-CALNAME:AICP | Associazione italiana coach professionisti
X-ORIGINAL-URL:https://demo-associazionecoach.qwince.com
X-WR-CALDESC:Eventi per AICP | Associazione italiana coach professionisti
REFRESH-INTERVAL;VALUE=DURATION:PT1H
X-Robots-Tag:noindex
X-PUBLISHED-TTL:PT1H
BEGIN:VTIMEZONE
TZID:Europe/Rome
BEGIN:DAYLIGHT
TZOFFSETFROM:+0100
TZOFFSETTO:+0200
TZNAME:CEST
DTSTART:20200329T010000
END:DAYLIGHT
BEGIN:STANDARD
TZOFFSETFROM:+0200
TZOFFSETTO:+0100
TZNAME:CET
DTSTART:20201025T010000
END:STANDARD
BEGIN:DAYLIGHT
TZOFFSETFROM:+0100
TZOFFSETTO:+0200
TZNAME:CEST
DTSTART:20210328T010000
END:DAYLIGHT
BEGIN:STANDARD
TZOFFSETFROM:+0200
TZOFFSETTO:+0100
TZNAME:CET
DTSTART:20211031T010000
END:STANDARD
BEGIN:DAYLIGHT
TZOFFSETFROM:+0100
TZOFFSETTO:+0200
TZNAME:CEST
DTSTART:20220327T010000
END:DAYLIGHT
BEGIN:STANDARD
TZOFFSETFROM:+0200
TZOFFSETTO:+0100
TZNAME:CET
DTSTART:20221030T010000
END:STANDARD
END:VTIMEZONE
BEGIN:VEVENT
DTSTART;TZID=Europe/Rome:20210609T180000
DTEND;TZID=Europe/Rome:20210609T193000
DTSTAMP:20260422T055750
CREATED:20210603T084851Z
LAST-MODIFIED:20210617T205752Z
UID:40621-1623261600-1623267000@demo-associazionecoach.qwince.com
SUMMARY:Webinar: "Il Clown sensibile e il coach professionista di AICP: quanto somigliamo?"
DESCRIPTION:Webinar: “Il Clown sensibile e il coach professionista di AICP: quanto somigliamo?” \nRelatore: Gerardo Mele \nDanzatore\, attore e insegnante con la compagnia “Les fusains” (Parigi). Danzatore dal 1976\, iniziando così un percorso personale di ricerca: “il corpo sensibile” che insegna dal 1998. \nDal 2000\, oltre che come attore\, lavora come formatore con P. Byland insegnando la pedagogia del “nuovo clown” in vari contesti come scuole di circo e di teatro. \nDal 2013 tiene laboratori intensivi di “clown sensibile” per compagnie e singoli professionisti che desiderano approfondire il lavoro sul clown. \nAutore del libro “Il Clown e la coscienza” edizioni Lindau\, in libreria da luglio 2021. \n  \nObiettivi del Webinar \nComprensione e ascolto profondo. \nContenuti \nAutenticità e assenza di giudizio\, gestione dell’emergenza e dell’imprevisto\, cooperare e riuscire ad essere nel flusso della relazione reciproca. \n  \nClicca sul link qui a destra per accedere alla pagina del webinar per avere maggiori informazioni sui relatori\, sull’intervento e per il video del webinar
URL:https://demo-associazionecoach.qwince.com/event/webinar-il-clown-sensibile-e-il-coach-professionista-di-aicp-quanto-somigliamo/
CATEGORIES:Webinar
ATTACH;FMTTYPE=image/png:https://demo-associazionecoach.qwince.com/wp-content/uploads/2021/06/Gerardo2.png
END:VEVENT
END:VCALENDAR