BEGIN:VCALENDAR
VERSION:2.0
PRODID:-//AICP | Associazione italiana coach professionisti - ECPv6.15.13//NONSGML v1.0//EN
CALSCALE:GREGORIAN
METHOD:PUBLISH
X-WR-CALNAME:AICP | Associazione italiana coach professionisti
X-ORIGINAL-URL:https://demo-associazionecoach.qwince.com
X-WR-CALDESC:Eventi per AICP | Associazione italiana coach professionisti
REFRESH-INTERVAL;VALUE=DURATION:PT1H
X-Robots-Tag:noindex
X-PUBLISHED-TTL:PT1H
BEGIN:VTIMEZONE
TZID:Europe/Rome
BEGIN:DAYLIGHT
TZOFFSETFROM:+0100
TZOFFSETTO:+0200
TZNAME:CEST
DTSTART:20190331T010000
END:DAYLIGHT
BEGIN:STANDARD
TZOFFSETFROM:+0200
TZOFFSETTO:+0100
TZNAME:CET
DTSTART:20191027T010000
END:STANDARD
BEGIN:DAYLIGHT
TZOFFSETFROM:+0100
TZOFFSETTO:+0200
TZNAME:CEST
DTSTART:20200329T010000
END:DAYLIGHT
BEGIN:STANDARD
TZOFFSETFROM:+0200
TZOFFSETTO:+0100
TZNAME:CET
DTSTART:20201025T010000
END:STANDARD
BEGIN:DAYLIGHT
TZOFFSETFROM:+0100
TZOFFSETTO:+0200
TZNAME:CEST
DTSTART:20210328T010000
END:DAYLIGHT
BEGIN:STANDARD
TZOFFSETFROM:+0200
TZOFFSETTO:+0100
TZNAME:CET
DTSTART:20211031T010000
END:STANDARD
END:VTIMEZONE
BEGIN:VEVENT
DTSTART;TZID=Europe/Rome:20200331T173000
DTEND;TZID=Europe/Rome:20200331T200000
DTSTAMP:20260424T153940
CREATED:20200419T144401Z
LAST-MODIFIED:20200419T145937Z
UID:36678-1585675800-1585684800@demo-associazionecoach.qwince.com
SUMMARY:Webinar: Riconoscere e attivare le Intelligenze Multiple nella sessione di Coaching
DESCRIPTION:Riconoscere e attivare le Intelligenze Multiple nella sessione di Coaching \nRelatore: Mauro Cavosi \nClicca sul link per accedere alla pagina del webinar per avere maggiori informazioni sul relatore\, sull’intervento e  per poter vedere la registrazione del webinar.
URL:https://demo-associazionecoach.qwince.com/event/webinar-riconoscere-e-attivare-le-intelligenze-multiple-nella-sessione-di-coaching/
CATEGORIES:Webinar
ATTACH;FMTTYPE=image/jpeg:https://demo-associazionecoach.qwince.com/wp-content/uploads/2020/04/Mauro-Cavosi-2.jpg
END:VEVENT
END:VCALENDAR