BEGIN:VCALENDAR
VERSION:2.0
PRODID:-//AICP | Associazione italiana coach professionisti - ECPv6.15.13//NONSGML v1.0//EN
CALSCALE:GREGORIAN
METHOD:PUBLISH
X-WR-CALNAME:AICP | Associazione italiana coach professionisti
X-ORIGINAL-URL:https://demo-associazionecoach.qwince.com
X-WR-CALDESC:Eventi per AICP | Associazione italiana coach professionisti
REFRESH-INTERVAL;VALUE=DURATION:PT1H
X-Robots-Tag:noindex
X-PUBLISHED-TTL:PT1H
BEGIN:VTIMEZONE
TZID:UTC
BEGIN:STANDARD
TZOFFSETFROM:+0000
TZOFFSETTO:+0000
TZNAME:UTC
DTSTART:20180101T000000
END:STANDARD
END:VTIMEZONE
BEGIN:VEVENT
DTSTART;TZID=UTC:20190514T180000
DTEND;TZID=UTC:20190514T200000
DTSTAMP:20260425T121525
CREATED:20160316T115245Z
LAST-MODIFIED:20191023T134237Z
UID:618-1557856800-1557864000@demo-associazionecoach.qwince.com
SUMMARY:Webinar: Contesti normativi di riferimento nella professione di Coach
DESCRIPTION:I contesti normativi di riferimento nella professione di coach\nRelatore: Alessandro Augusto \nClicca sul link per accedere alla pagina del webinar per avere maggiori informazioni sul relatore\, sull’intervento e per poter vedere la registrazione del webinar.
URL:https://demo-associazionecoach.qwince.com/event/webinar_augusto/
LOCATION:ZOOM
CATEGORIES:Webinar
ATTACH;FMTTYPE=image/jpeg:https://demo-associazionecoach.qwince.com/wp-content/uploads/2016/03/DM_04-Copia-up-2.jpg
END:VEVENT
END:VCALENDAR