BEGIN:VCALENDAR
VERSION:2.0
PRODID:-//AICP | Associazione italiana coach professionisti - ECPv6.15.13//NONSGML v1.0//EN
CALSCALE:GREGORIAN
METHOD:PUBLISH
X-ORIGINAL-URL:https://demo-associazionecoach.qwince.com
X-WR-CALDESC:Eventi per AICP | Associazione italiana coach professionisti
REFRESH-INTERVAL;VALUE=DURATION:PT1H
X-Robots-Tag:noindex
X-PUBLISHED-TTL:PT1H
BEGIN:VTIMEZONE
TZID:Europe/Rome
BEGIN:DAYLIGHT
TZOFFSETFROM:+0100
TZOFFSETTO:+0200
TZNAME:CEST
DTSTART:20180325T010000
END:DAYLIGHT
BEGIN:STANDARD
TZOFFSETFROM:+0200
TZOFFSETTO:+0100
TZNAME:CET
DTSTART:20181028T010000
END:STANDARD
BEGIN:DAYLIGHT
TZOFFSETFROM:+0100
TZOFFSETTO:+0200
TZNAME:CEST
DTSTART:20190331T010000
END:DAYLIGHT
BEGIN:STANDARD
TZOFFSETFROM:+0200
TZOFFSETTO:+0100
TZNAME:CET
DTSTART:20191027T010000
END:STANDARD
BEGIN:DAYLIGHT
TZOFFSETFROM:+0100
TZOFFSETTO:+0200
TZNAME:CEST
DTSTART:20200329T010000
END:DAYLIGHT
BEGIN:STANDARD
TZOFFSETFROM:+0200
TZOFFSETTO:+0100
TZNAME:CET
DTSTART:20201025T010000
END:STANDARD
END:VTIMEZONE
BEGIN:VEVENT
DTSTART;TZID=Europe/Rome:20190314T180000
DTEND;TZID=Europe/Rome:20190314T200000
DTSTAMP:20260425T163544
CREATED:20191022T154307Z
LAST-MODIFIED:20200313T135108Z
UID:34879-1552586400-1552593600@demo-associazionecoach.qwince.com
SUMMARY:Webinar: I livelli di ascolto del coach professionista
DESCRIPTION:I livelli di ascolto del coach professionista\nRelatore: Vittorio Balbi \nClicca sul link per accedere alla pagina del webinar per avere maggiori informazioni sul relatore\, sull’intervento e per poter vedere la registrazione del webinar.
URL:https://demo-associazionecoach.qwince.com/event/webinar-i-livelli-di-ascolto-del-coach-professionista/
LOCATION:ZOOM
CATEGORIES:Webinar
ATTACH;FMTTYPE=image/jpeg:https://demo-associazionecoach.qwince.com/wp-content/uploads/2019/10/Vittorio-Balbi.jpg
END:VEVENT
END:VCALENDAR