BEGIN:VCALENDAR
VERSION:2.0
PRODID:-//AICP | Associazione italiana coach professionisti - ECPv6.15.13//NONSGML v1.0//EN
CALSCALE:GREGORIAN
METHOD:PUBLISH
X-ORIGINAL-URL:https://demo-associazionecoach.qwince.com
X-WR-CALDESC:Eventi per AICP | Associazione italiana coach professionisti
REFRESH-INTERVAL;VALUE=DURATION:PT1H
X-Robots-Tag:noindex
X-PUBLISHED-TTL:PT1H
BEGIN:VTIMEZONE
TZID:Europe/Rome
BEGIN:DAYLIGHT
TZOFFSETFROM:+0100
TZOFFSETTO:+0200
TZNAME:CEST
DTSTART:20210328T010000
END:DAYLIGHT
BEGIN:STANDARD
TZOFFSETFROM:+0200
TZOFFSETTO:+0100
TZNAME:CET
DTSTART:20211031T010000
END:STANDARD
BEGIN:DAYLIGHT
TZOFFSETFROM:+0100
TZOFFSETTO:+0200
TZNAME:CEST
DTSTART:20220327T010000
END:DAYLIGHT
BEGIN:STANDARD
TZOFFSETFROM:+0200
TZOFFSETTO:+0100
TZNAME:CET
DTSTART:20221030T010000
END:STANDARD
BEGIN:DAYLIGHT
TZOFFSETFROM:+0100
TZOFFSETTO:+0200
TZNAME:CEST
DTSTART:20230326T010000
END:DAYLIGHT
BEGIN:STANDARD
TZOFFSETFROM:+0200
TZOFFSETTO:+0100
TZNAME:CET
DTSTART:20231029T010000
END:STANDARD
END:VTIMEZONE
BEGIN:VEVENT
DTSTART;TZID=Europe/Rome:20220524T180000
DTEND;TZID=Europe/Rome:20220524T193000
DTSTAMP:20260421T122806
CREATED:20221031T103025Z
LAST-MODIFIED:20221031T103125Z
UID:44934-1653415200-1653420600@demo-associazionecoach.qwince.com
SUMMARY:Webinar - I regolamenti di AICP: a cosa servono\, perché ci sono e quando si cambiano
DESCRIPTION:Giuditta Parise: \nDirigente Amministrativo\, iscritta all’ordine dei Commercialisti ed Esperti Contabili di Modena dal 1996 e abilitata come Revisore Contabile. \nOltre all’esperienza in qualità di libero professionista ha ricoperto la carica di Amministratore Delegato in Enti non commerciali. \nCoach professionista dal 2018. \nConsigliere del Comitato Direttivo di AICP. \nOBIETTIVI: Presentare al socio AICP il nuovo accesso guidato agli strumenti (in parte anch’essi nuovi) disponibili nel sito: informazioni e strumenti utili per promuovere consapevolmente la propria professionalità e il coaching in generale\, secondo le indicazioni di Statuto\, carta etica e regolamenti AICP. Condividere i pilastri della comunicazione in AICP.
URL:https://demo-associazionecoach.qwince.com/event/webinar-i-regolamenti-di-aicp-a-cosa-servono-perche-ci-sono-e-quando-si-cambiano/
CATEGORIES:Webinar
ATTACH;FMTTYPE=image/png:https://demo-associazionecoach.qwince.com/wp-content/uploads/2022/10/Parise.png
END:VEVENT
END:VCALENDAR