BEGIN:VCALENDAR
VERSION:2.0
PRODID:-//AICP | Associazione italiana coach professionisti - ECPv6.15.13//NONSGML v1.0//EN
CALSCALE:GREGORIAN
METHOD:PUBLISH
X-WR-CALNAME:AICP | Associazione italiana coach professionisti
X-ORIGINAL-URL:https://demo-associazionecoach.qwince.com
X-WR-CALDESC:Eventi per AICP | Associazione italiana coach professionisti
REFRESH-INTERVAL;VALUE=DURATION:PT1H
X-Robots-Tag:noindex
X-PUBLISHED-TTL:PT1H
BEGIN:VTIMEZONE
TZID:UTC
BEGIN:STANDARD
TZOFFSETFROM:+0000
TZOFFSETTO:+0000
TZNAME:UTC
DTSTART:20210101T000000
END:STANDARD
END:VTIMEZONE
BEGIN:VEVENT
DTSTART;TZID=UTC:20220222T183000
DTEND;TZID=UTC:20220222T200000
DTSTAMP:20260421T160018
CREATED:20220218T214004Z
LAST-MODIFIED:20220218T223608Z
UID:42054-1645554600-1645560000@demo-associazionecoach.qwince.com
SUMMARY:Webinar: "Presentazione indagine Primavera 2021: riflessioni e stimoli"
DESCRIPTION:Facendo seguito a quando descritto nel Sito AICP alla voce: “Primavera del Coaching Digitale 2020” (a cui si rimanda per la descrizione del contesto organizzativo)\, verrà presentata un’analisi approfondita sui dati raccolti al fine di disporre di una base comune utile per una riflessione che permetta ai Coach AICP e ai Coaching Club regionali di individuare e predisporre azioni di miglioramento in vista delle prossime Primavere.\nL’intento di AICP nel proporre il questionario a chi ha usufruito dell’offerta di percorsi online gratuiti svolti già durante la Primavera 2020 era di verificare il livello di soddisfazione e l’utilità percepita rispetto al servizio\, al fine di analizzarne l’efficacia e le eventuali aree di miglioramento\, nella sua continua ricerca dell’eccellenza. Impegno simile a quello di ogni azienda\, organizzazione e Coach attenti al proprio cliente e soprattutto tesi al miglioramento continuo dei propri processi.\nUna mera indagine\, utile alla pratica nelle attività di Coaching e nelle proposte delle future Primavere AICP che\, pur nella sua semplicità\, risponde ai dettami di rigore metodologico a garanzia che quanto viene evidenziato e descritto ponga una base di riflessione solida\, quindi utile anche per delineare strategie future di lavoro e di ricerca. \nObiettivi del Webinar \nPresentare i risultati dell’analisi dati relativi all’indagine sulla Primavera AICP 2021 in modo da stimolare riflessioni utili alla crescita professionale e per il miglioramento delle successive Primavere. \nContenuti \nIndagine Primavera AICP 2021 dettagliata sulla soddisfazione e sul miglioramento percepito dal coachee e sulle variabili implicate. Presentazione evidenze e stimoli per la riflessione partecipata e il miglioramento. \n  \nRelatore: Rudy Orzes  \nResponsabile nazionale Ricerca AICP\, Coach e Trainer Outdoor Management Training. Honorary President in Metalogos Ricerca Consulenza Formazione. Docente IUSVE. \nRelatrice: Angela Di Rienzo   \nVice responsabile nazionale Ricerca AICP\, Psicologa e Psicoterapeuta\, Coach\, Experential Trainer e Team Facilitator ICP-ATF. Membro del CD di SCPItaly. \n  \nClicca sul link qui a destra per accedere alla pagina del webinar per avere maggiori informazioni sui relatori\, sull’intervento e per l’iscrizione
URL:https://demo-associazionecoach.qwince.com/event/42054/
CATEGORIES:Webinar
ATTACH;FMTTYPE=image/png:https://demo-associazionecoach.qwince.com/wp-content/uploads/2022/01/Rudy_Orzes_Foto-e1643047426528-300x300-1.png
END:VEVENT
END:VCALENDAR