BEGIN:VCALENDAR
VERSION:2.0
PRODID:-//AICP | Associazione italiana coach professionisti - ECPv6.15.13//NONSGML v1.0//EN
CALSCALE:GREGORIAN
METHOD:PUBLISH
X-WR-CALNAME:AICP | Associazione italiana coach professionisti
X-ORIGINAL-URL:https://demo-associazionecoach.qwince.com
X-WR-CALDESC:Eventi per AICP | Associazione italiana coach professionisti
REFRESH-INTERVAL;VALUE=DURATION:PT1H
X-Robots-Tag:noindex
X-PUBLISHED-TTL:PT1H
BEGIN:VTIMEZONE
TZID:Europe/Rome
BEGIN:DAYLIGHT
TZOFFSETFROM:+0100
TZOFFSETTO:+0200
TZNAME:CEST
DTSTART:20200329T010000
END:DAYLIGHT
BEGIN:STANDARD
TZOFFSETFROM:+0200
TZOFFSETTO:+0100
TZNAME:CET
DTSTART:20201025T010000
END:STANDARD
BEGIN:DAYLIGHT
TZOFFSETFROM:+0100
TZOFFSETTO:+0200
TZNAME:CEST
DTSTART:20210328T010000
END:DAYLIGHT
BEGIN:STANDARD
TZOFFSETFROM:+0200
TZOFFSETTO:+0100
TZNAME:CET
DTSTART:20211031T010000
END:STANDARD
BEGIN:DAYLIGHT
TZOFFSETFROM:+0100
TZOFFSETTO:+0200
TZNAME:CEST
DTSTART:20220327T010000
END:DAYLIGHT
BEGIN:STANDARD
TZOFFSETFROM:+0200
TZOFFSETTO:+0100
TZNAME:CET
DTSTART:20221030T010000
END:STANDARD
END:VTIMEZONE
BEGIN:VEVENT
DTSTART;TZID=Europe/Rome:20210922T173000
DTEND;TZID=Europe/Rome:20210922T190000
DTSTAMP:20260422T001440
CREATED:20210916T150639Z
LAST-MODIFIED:20210916T150647Z
UID:40916-1632331800-1632337200@demo-associazionecoach.qwince.com
SUMMARY:Webinar "Tutela dei dati personali"
DESCRIPTION:Webinar “Tutela dei dati personali” \n  \nRelatrice: Lucia Menini  \nConsulente legale specializzata in materia di Data Protection. DPO certificato Cepas Bureau Veritas e Privacy Officer certificato TUV Italia. \nRelatore: Loris Ghirello  \nConsulente legale specializzato in materia di Data Protection. Larga esperienza nella risoluzione di problematiche impattanti sui dati personali. \n  \nObiettivi del Webinar \nTrasferire ai partecipanti del webinar la conoscenza degli adempimenti previsti dalla legge in materia di Privacy e tutela dei dati personali \nContenuti \nTempi di conservazione dei dati personali. \nModalità di trasformazione della privacy da mero adempimento burocratico ad attività svolta dal coach. \nRisposte a domande formulate dai coach AICP. Spazio dedicato alle domande ed agli approfondimenti. \n  \nClicca sul link qui a destra per accedere alla pagina del webinar per avere maggiori informazioni sui relatori\, sull’intervento e per il video del webinar
URL:https://demo-associazionecoach.qwince.com/event/webinar-tutela-dei-dati-personali/
CATEGORIES:Webinar
ATTACH;FMTTYPE=image/jpeg:https://demo-associazionecoach.qwince.com/wp-content/uploads/2021/03/Loris-Lucia.jpg
END:VEVENT
END:VCALENDAR