BEGIN:VCALENDAR
VERSION:2.0
PRODID:-//AICP | Associazione italiana coach professionisti - ECPv6.15.13//NONSGML v1.0//EN
CALSCALE:GREGORIAN
METHOD:PUBLISH
X-ORIGINAL-URL:https://demo-associazionecoach.qwince.com
X-WR-CALDESC:Eventi per AICP | Associazione italiana coach professionisti
REFRESH-INTERVAL;VALUE=DURATION:PT1H
X-Robots-Tag:noindex
X-PUBLISHED-TTL:PT1H
BEGIN:VTIMEZONE
TZID:UTC
BEGIN:STANDARD
TZOFFSETFROM:+0000
TZOFFSETTO:+0000
TZNAME:UTC
DTSTART:20180101T000000
END:STANDARD
END:VTIMEZONE
BEGIN:VEVENT
DTSTART;TZID=UTC:20190408T180000
DTEND;TZID=UTC:20190408T200000
DTSTAMP:20260425T133948
CREATED:20191022T173846Z
LAST-MODIFIED:20191023T134557Z
UID:34893-1554746400-1554753600@demo-associazionecoach.qwince.com
SUMMARY:Webinar: Personal Branding per coach professionisti
DESCRIPTION:Personal Branding per coach professionisti\nRelatori: Miriam Bruera – Andrea della Melina \nClicca sul link per accedere alla pagina del webinar per avere maggiori informazioni sui relatori\, sull’intervento e per poter vedere la registrazione del webinar. \n 
URL:https://demo-associazionecoach.qwince.com/event/webinar-personal-branding-per-coach-professionisti/
LOCATION:ZOOM
CATEGORIES:Webinar
ATTACH;FMTTYPE=image/jpeg:https://demo-associazionecoach.qwince.com/wp-content/uploads/2019/10/MB-v2.jpg
END:VEVENT
END:VCALENDAR