BEGIN:VCALENDAR
VERSION:2.0
PRODID:-//AICP | Associazione italiana coach professionisti - ECPv6.15.13//NONSGML v1.0//EN
CALSCALE:GREGORIAN
METHOD:PUBLISH
X-ORIGINAL-URL:https://demo-associazionecoach.qwince.com
X-WR-CALDESC:Eventi per AICP | Associazione italiana coach professionisti
REFRESH-INTERVAL;VALUE=DURATION:PT1H
X-Robots-Tag:noindex
X-PUBLISHED-TTL:PT1H
BEGIN:VTIMEZONE
TZID:Europe/Rome
BEGIN:DAYLIGHT
TZOFFSETFROM:+0100
TZOFFSETTO:+0200
TZNAME:CEST
DTSTART:20220327T010000
END:DAYLIGHT
BEGIN:STANDARD
TZOFFSETFROM:+0200
TZOFFSETTO:+0100
TZNAME:CET
DTSTART:20221030T010000
END:STANDARD
BEGIN:DAYLIGHT
TZOFFSETFROM:+0100
TZOFFSETTO:+0200
TZNAME:CEST
DTSTART:20230326T010000
END:DAYLIGHT
BEGIN:STANDARD
TZOFFSETFROM:+0200
TZOFFSETTO:+0100
TZNAME:CET
DTSTART:20231029T010000
END:STANDARD
BEGIN:DAYLIGHT
TZOFFSETFROM:+0100
TZOFFSETTO:+0200
TZNAME:CEST
DTSTART:20240331T010000
END:DAYLIGHT
BEGIN:STANDARD
TZOFFSETFROM:+0200
TZOFFSETTO:+0100
TZNAME:CET
DTSTART:20241027T010000
END:STANDARD
END:VTIMEZONE
BEGIN:VEVENT
DTSTART;TZID=Europe/Rome:20231117T183000
DTEND;TZID=Europe/Rome:20231117T200000
DTSTAMP:20260419T194400
CREATED:20231231T131814Z
LAST-MODIFIED:20240828T201108Z
UID:47008-1700245800-1700251200@demo-associazionecoach.qwince.com
SUMMARY:Webinar Neuroscienze: Tecniche Utili di Allenamento (Respiro\, Gentilezza\, Ottimismo\, Convinzioni)
DESCRIPTION:I referenti del tavolo di Ricerca AICP Danila Mignardi\, Gianvittorio Carusi e Silvia Camerini ci parlano di: \n\nrespiro consapevole\ngestione stress\neffetti degli atteggiamenti come Gentilezza\, Ottimismo\, Exotopia\, Credenze\n\nScarica i materiali\n1. Il respiro consapevole: scarica le slide\n \n2. Gentilezza: scarica le slide\n \n3. Convinzioni: scarica le slide\n \n4. Ottimismo: scarica le slide\n \nGuarda la registrazione del webinar\nhttps://vimeo.com/user99829672/pilastro-fiducia
URL:https://demo-associazionecoach.qwince.com/event/webinar-neuroscienze-tecniche-utili-di-allenamento-respiro-gentilezza/
CATEGORIES:Formazione continua,Webinar
ATTACH;FMTTYPE=image/png:https://demo-associazionecoach.qwince.com/wp-content/uploads/2023/12/Respiro-consapevole.png
END:VEVENT
END:VCALENDAR