BEGIN:VCALENDAR
VERSION:2.0
PRODID:-//AICP | Associazione italiana coach professionisti - ECPv6.15.13//NONSGML v1.0//EN
CALSCALE:GREGORIAN
METHOD:PUBLISH
X-WR-CALNAME:AICP | Associazione italiana coach professionisti
X-ORIGINAL-URL:https://demo-associazionecoach.qwince.com
X-WR-CALDESC:Eventi per AICP | Associazione italiana coach professionisti
REFRESH-INTERVAL;VALUE=DURATION:PT1H
X-Robots-Tag:noindex
X-PUBLISHED-TTL:PT1H
BEGIN:VTIMEZONE
TZID:UTC
BEGIN:STANDARD
TZOFFSETFROM:+0000
TZOFFSETTO:+0000
TZNAME:UTC
DTSTART:20180101T000000
END:STANDARD
END:VTIMEZONE
BEGIN:VEVENT
DTSTART;TZID=UTC:20191023T180000
DTEND;TZID=UTC:20191023T200000
DTSTAMP:20260425T163155
CREATED:20191212T121002Z
LAST-MODIFIED:20200313T140059Z
UID:35055-1571853600-1571860800@demo-associazionecoach.qwince.com
SUMMARY:Webinar: Il coach strategico in azione (II webinar)
DESCRIPTION:Il coaching strategico in azione\nRelatore: Paolo Vocca \nClicca sul link per accedere alla pagina del webinar per avere maggiori informazioni sul relatore\, sull’intervento e  per poter vedere la registrazione del webinar. \n 
URL:https://demo-associazionecoach.qwince.com/event/webinar-il-coach-strategico-in-azione-ii-webinar/
LOCATION:ZOOM
CATEGORIES:Webinar
ATTACH;FMTTYPE=image/jpeg:https://demo-associazionecoach.qwince.com/wp-content/uploads/2016/03/71238267_10219413635282498_8977740241561452544_n.jpg
END:VEVENT
END:VCALENDAR